BEGIN:VCALENDAR
VERSION:2.0
PRODID:-//wp-events-plugin.com//7.2.3.1//EN
TZID:Europe/Berlin
X-WR-TIMEZONE:Europe/Berlin
BEGIN:VEVENT
UID:0-146@orca.nrw
DTSTART;TZID=Europe/Berlin:20250918T083000
DTEND;TZID=Europe/Berlin:20250919T144500
DTSTAMP:20250915T112947Z
URL:https://www.orca.nrw/events/starker-start-ins-studium-auf-der-vocatium
 -muenster-2025/
SUMMARY:Starker Start ins Studium auf der "vocatium Münster 2025"
DESCRIPTION:ORCA.nrw ist auf der "vocatium Münster 2025" vertreten. Die Fa
 chmesse für Ausbildung und Studium bietet jungen Menschen zahlreiche Mög
 lichkeiten\, ihre berufliche Zukunft zu planen.\n\nhttps://www.vocatium.de
 /messen/info/vocatium-muenster
CATEGORIES:Landesportal ORCA.nrw
LOCATION:Messe und Congress Centrum Halle Münsterland\,  Albersloher Weg 3
 2\, Münster\, 48155 \, Deutschland
X-APPLE-STRUCTURED-LOCATION;VALUE=URI;X-ADDRESS= Albersloher Weg 32\, Müns
 ter\, 48155 \, Deutschland;X-APPLE-RADIUS=100;X-TITLE=Messe und Congress C
 entrum Halle Münsterland:geo:0,0
END:VEVENT
BEGIN:VTIMEZONE
TZID:Europe/Berlin
X-LIC-LOCATION:Europe/Berlin
BEGIN:DAYLIGHT
DTSTART:20250330T030000
TZOFFSETFROM:+0100
TZOFFSETTO:+0200
TZNAME:CEST
END:DAYLIGHT
END:VTIMEZONE
END:VCALENDAR