BEGIN:VCALENDAR
VERSION:2.0
PRODID:-//wp-events-plugin.com//7.2.3.1//EN
TZID:Europe/Berlin
X-WR-TIMEZONE:Europe/Berlin
BEGIN:VEVENT
UID:0-143@orca.nrw
DTSTART;TZID=Europe/Berlin:20250913T100000
DTEND;TZID=Europe/Berlin:20250913T150000
DTSTAMP:20250902T120947Z
URL:https://www.orca.nrw/events/starker-start-ins-studium-bei-der-abi-zuku
 nft-essen/
SUMMARY:Starker Start ins Studium bei der ABI Zukunft Essen
DESCRIPTION:ORCA.nrw ist auf der ABI Zukunft Messe in Essen vertreten!\n\nD
 ie Messe bietet zudem\n\n 	Top Speaker*innen mit spannenden Vorträgen\n 	
 Branchenexpertinnen und Motivationscoaches\n 	Zahlreiche Aussteller*innen 
 mit interessanten Standaktionen\n 	Passgenaue Workshops zu unterschiedlich
 en Themen\n 	Karriere maßgeschneidert\n\nu.v.m.\n\nSchau vorbei und besuc
 he uns an unserem ORCA.nrw-Stand\, an dem wir dir unsere kostenlosen Unter
 stützungsangebote für den Studieneingang zeigen.\n\n
CATEGORIES:Landesportal ORCA.nrw
LOCATION:GRUGAHALLE/Messe Essen\, Messeplatz 2\, Essen\, NRW\, 45131\, Deut
 schland
X-APPLE-STRUCTURED-LOCATION;VALUE=URI;X-ADDRESS=Messeplatz 2\, Essen\, NRW\
 , 45131\, Deutschland;X-APPLE-RADIUS=100;X-TITLE=GRUGAHALLE/Messe Essen:ge
 o:0,0
END:VEVENT
BEGIN:VTIMEZONE
TZID:Europe/Berlin
X-LIC-LOCATION:Europe/Berlin
BEGIN:DAYLIGHT
DTSTART:20250330T030000
TZOFFSETFROM:+0100
TZOFFSETTO:+0200
TZNAME:CEST
END:DAYLIGHT
END:VTIMEZONE
END:VCALENDAR